BEGIN:VCALENDAR
VERSION:2.0
PRODID:-//Viola Engelbrecht – trombone &amp; vocals - ECPv6.0.9//NONSGML v1.0//EN
CALSCALE:GREGORIAN
METHOD:PUBLISH
X-WR-CALNAME:Viola Engelbrecht – trombone &amp; vocals
X-ORIGINAL-URL:https://www.violaengelbrecht.com
X-WR-CALDESC:Veranstaltungen für Viola Engelbrecht – trombone &amp; vocals
REFRESH-INTERVAL;VALUE=DURATION:PT1H
X-Robots-Tag:noindex
X-PUBLISHED-TTL:PT1H
BEGIN:VTIMEZONE
TZID:Europe/Berlin
BEGIN:DAYLIGHT
TZOFFSETFROM:+0100
TZOFFSETTO:+0200
TZNAME:CEST
DTSTART:20160327T010000
END:DAYLIGHT
BEGIN:STANDARD
TZOFFSETFROM:+0200
TZOFFSETTO:+0100
TZNAME:CET
DTSTART:20161030T010000
END:STANDARD
END:VTIMEZONE
BEGIN:VEVENT
DTSTART;TZID=Europe/Berlin:20160707T160000
DTEND;TZID=Europe/Berlin:20160707T180000
DTSTAMP:20260420T025714
CREATED:20160705T190323Z
LAST-MODIFIED:20160802T100019Z
UID:635-1467907200-1467914400@www.violaengelbrecht.com
SUMMARY:Benefizkonzert zugunsten "Frankfurt hilft"
DESCRIPTION:Bigband und Hochschulchor der FRA-UAS\, Benefizkonzert zugunsten „Frankfurt hilft“ (Engagement für Flüchtlinge)\nNibelungenallee 1 (Cafe 1/Gebäude 1)
URL:https://www.violaengelbrecht.com/termin/benefizkonzert-zugunsten-frankfurt-hilft/
LOCATION:Frankfurt University of Applied Sciences\, Nibelungenallee 1\, Frankfurt/Main
END:VEVENT
END:VCALENDAR