BEGIN:VCALENDAR
VERSION:2.0
PRODID:-//Viola Engelbrecht – trombone &amp; vocals - ECPv6.0.9//NONSGML v1.0//EN
CALSCALE:GREGORIAN
METHOD:PUBLISH
X-ORIGINAL-URL:https://www.violaengelbrecht.com
X-WR-CALDESC:Veranstaltungen für Viola Engelbrecht – trombone &amp; vocals
REFRESH-INTERVAL;VALUE=DURATION:PT1H
X-Robots-Tag:noindex
X-PUBLISHED-TTL:PT1H
BEGIN:VTIMEZONE
TZID:Europe/Berlin
BEGIN:DAYLIGHT
TZOFFSETFROM:+0100
TZOFFSETTO:+0200
TZNAME:CEST
DTSTART:20160327T010000
END:DAYLIGHT
BEGIN:STANDARD
TZOFFSETFROM:+0200
TZOFFSETTO:+0100
TZNAME:CET
DTSTART:20161030T010000
END:STANDARD
END:VTIMEZONE
BEGIN:VEVENT
DTSTART;TZID=Europe/Berlin:20161018T190000
DTEND;TZID=Europe/Berlin:20161018T220000
DTSTAMP:20260419T220059
CREATED:20160802T100415Z
LAST-MODIFIED:20161031T182749Z
UID:645-1476817200-1476828000@www.violaengelbrecht.com
SUMMARY:Viola Engelbrecht Quartett in der Art Bar
DESCRIPTION:Viola Engelbrecht Quartett in der Art Bar \nFlyer zur Veranstaltung
URL:https://www.violaengelbrecht.com/termin/viola-engelbrecht-quartett/
LOCATION:Art Bar\, Ziegelhüttenweg 221\, Frankfurt
END:VEVENT
END:VCALENDAR