BEGIN:VCALENDAR
VERSION:2.0
PRODID:-//Viola Engelbrecht – trombone &amp; vocals - ECPv6.0.9//NONSGML v1.0//EN
CALSCALE:GREGORIAN
METHOD:PUBLISH
X-ORIGINAL-URL:https://www.violaengelbrecht.com
X-WR-CALDESC:Veranstaltungen für Viola Engelbrecht – trombone &amp; vocals
REFRESH-INTERVAL;VALUE=DURATION:PT1H
X-Robots-Tag:noindex
X-PUBLISHED-TTL:PT1H
BEGIN:VTIMEZONE
TZID:Europe/Berlin
BEGIN:DAYLIGHT
TZOFFSETFROM:+0100
TZOFFSETTO:+0200
TZNAME:CEST
DTSTART:20160327T010000
END:DAYLIGHT
BEGIN:STANDARD
TZOFFSETFROM:+0200
TZOFFSETTO:+0100
TZNAME:CET
DTSTART:20161030T010000
END:STANDARD
END:VTIMEZONE
BEGIN:VEVENT
DTSTART;TZID=Europe/Berlin:20161204T160000
DTEND;TZID=Europe/Berlin:20161204T170000
DTSTAMP:20260419T190707
CREATED:20161031T181719Z
LAST-MODIFIED:20161031T181827Z
UID:657-1480867200-1480870800@www.violaengelbrecht.com
SUMMARY:Frauenchor Sossenheim: Weihnachtsmarkt Römer
DESCRIPTION:Der Frauenchor Sossenheim singt auf dem Frankfurter Weihnachtsmarkt (Bühne auf dem Römer)
URL:https://www.violaengelbrecht.com/termin/frauenchor-sossenheim-weihnachtsmarkt-roemer/
LOCATION:Bühne auf dem Römer\, Römerberg\, Frankfurt
END:VEVENT
END:VCALENDAR