BEGIN:VCALENDAR
VERSION:2.0
PRODID:-//Viola Engelbrecht – trombone &amp; vocals - ECPv6.0.9//NONSGML v1.0//EN
CALSCALE:GREGORIAN
METHOD:PUBLISH
X-ORIGINAL-URL:https://www.violaengelbrecht.com
X-WR-CALDESC:Veranstaltungen für Viola Engelbrecht – trombone &amp; vocals
REFRESH-INTERVAL;VALUE=DURATION:PT1H
X-Robots-Tag:noindex
X-PUBLISHED-TTL:PT1H
BEGIN:VTIMEZONE
TZID:Europe/Berlin
BEGIN:DAYLIGHT
TZOFFSETFROM:+0100
TZOFFSETTO:+0200
TZNAME:CEST
DTSTART:20170326T010000
END:DAYLIGHT
BEGIN:STANDARD
TZOFFSETFROM:+0200
TZOFFSETTO:+0100
TZNAME:CET
DTSTART:20171029T010000
END:STANDARD
END:VTIMEZONE
BEGIN:VEVENT
DTSTART;TZID=Europe/Berlin:20170126T190000
DTEND;TZID=Europe/Berlin:20170126T190000
DTSTAMP:20260419T173834
CREATED:20170113T112517Z
LAST-MODIFIED:20170113T113435Z
UID:673-1485457200-1485457200@www.violaengelbrecht.com
SUMMARY:RheinMainJazzorchestra in Oberursel
DESCRIPTION:RheinMainJazzorchestra \nMusikhalle Portsstraße\, Oberursel \nwww.rheinmainjazzorchestra.de \n20 Uhr
URL:https://www.violaengelbrecht.com/termin/rheinmainjazzorchestra-5/
LOCATION:Musikhalle Portsstraße\, Hohemarkstraße 18\, 61440 Oberursel
CATEGORIES:auftritt
END:VEVENT
END:VCALENDAR