BEGIN:VCALENDAR
VERSION:2.0
PRODID:-//Viola Engelbrecht – trombone &amp; vocals - ECPv6.0.9//NONSGML v1.0//EN
CALSCALE:GREGORIAN
METHOD:PUBLISH
X-ORIGINAL-URL:https://www.violaengelbrecht.com
X-WR-CALDESC:Veranstaltungen für Viola Engelbrecht – trombone &amp; vocals
REFRESH-INTERVAL;VALUE=DURATION:PT1H
X-Robots-Tag:noindex
X-PUBLISHED-TTL:PT1H
BEGIN:VTIMEZONE
TZID:Europe/Berlin
BEGIN:DAYLIGHT
TZOFFSETFROM:+0100
TZOFFSETTO:+0200
TZNAME:CEST
DTSTART:20160327T010000
END:DAYLIGHT
BEGIN:STANDARD
TZOFFSETFROM:+0200
TZOFFSETTO:+0100
TZNAME:CET
DTSTART:20161030T010000
END:STANDARD
END:VTIMEZONE
BEGIN:VEVENT
DTSTART;TZID=Europe/Berlin:20160130T190000
DTEND;TZID=Europe/Berlin:20160130T190000
DTSTAMP:20260420T115051
CREATED:20151222T185108Z
LAST-MODIFIED:20151223T005546Z
UID:428-1454180400-1454180400@www.violaengelbrecht.com
SUMMARY:Die Dissonanten  Tanten: Still schrill - Konzert zum 25-jährigen Jubiläum
DESCRIPTION:Nach zwei ausverkauften Vorstellungen im Oktober 2015 nehmen wir unser Jubiläumsprogramm im Januar 2016 noch einmal auf: \nDie Dissonanten Tanten singen\, schreiten\, tanzen. Sie rezitieren\, tirilieren\, swingen\, lachen\, schluchzen\, schnattern durcheinander – und das seit 25 Jahren auf Bühnen im und außerhalb des Rhein-Main-Gebiets. \nZu ihrem Jubiläum im Jahr 2015 sausen die Dissonanten Tanten durch ihre bisherigen Chortheaterprogramme\, wirbeln Swingendes\, Sprachgewandtes\, Romantisches\, Weltläufiges und Frauenbewegtes zu einer schrillen Mischung zusammen – dissonantes Glück in Vollendung! \nEin lustvolles Weißt-Du-noch?\nund aufrichtiges Dankeschön! ans Publikum.
URL:https://www.violaengelbrecht.com/termin/die-dissonanten-tanten-still-schrill-konzert-zum-25-jaehrigen-jubilaeum/
LOCATION:Gallus Theater\, Kleyerstr. 5\, Frankfurt\, 60326\, Deutschland
CATEGORIES:auftritt
END:VEVENT
END:VCALENDAR