BEGIN:VCALENDAR
VERSION:2.0
PRODID:-//Viola Engelbrecht – trombone &amp; vocals - ECPv6.0.9//NONSGML v1.0//EN
CALSCALE:GREGORIAN
METHOD:PUBLISH
X-ORIGINAL-URL:https://www.violaengelbrecht.com
X-WR-CALDESC:Veranstaltungen für Viola Engelbrecht – trombone &amp; vocals
REFRESH-INTERVAL;VALUE=DURATION:PT1H
X-Robots-Tag:noindex
X-PUBLISHED-TTL:PT1H
BEGIN:VTIMEZONE
TZID:Europe/Berlin
BEGIN:DAYLIGHT
TZOFFSETFROM:+0100
TZOFFSETTO:+0200
TZNAME:CEST
DTSTART:20160327T010000
END:DAYLIGHT
BEGIN:STANDARD
TZOFFSETFROM:+0200
TZOFFSETTO:+0100
TZNAME:CET
DTSTART:20161030T010000
END:STANDARD
END:VTIMEZONE
BEGIN:VEVENT
DTSTART;TZID=Europe/Berlin:20160213T140000
DTEND;TZID=Europe/Berlin:20160213T150000
DTSTAMP:20260420T102836
CREATED:20160201T102122Z
LAST-MODIFIED:20160201T102131Z
UID:433-1455372000-1455375600@www.violaengelbrecht.com
SUMMARY:Die Dissonanten Tanten: One Billion Rising
DESCRIPTION:Jede 3. Frau weltweit war bereits Opfer von Gewalt\, wurde geschlagen\, zu sexuellem Kontakt gezwungen\, vergewaltigt oder in anderer Form misshandelt. \nJede 3. Frau\, das sind eine Milliarde Frauen (one billion)\, denen Gewalt angetan wird … ein unfassbares Gräuel. \nAm 14. Februar läd der V-Day eine Milliarde Frauen dazu ein\, raus zu gehen\, zu tanzen und sich zu erheben\, um das Ende dieser Gewalt zu fordern. Eine Milliarde Frauen – und Männer – überall auf der Welt. Wir zeigen der Welt unsere kollektive Stärke und unsere globale Solidarität über alle Grenzen hinweg. Zeig auch Du der Welt am 14. Februar\, wie EINE MILLIARDE aussieht. Am 14. Februar sieht sie aus wie eine REVOLUTION.
URL:https://www.violaengelbrecht.com/termin/die-dissonanten-tanten-one-billion-rising/
LOCATION:vor der Katharinenkirche\, Frankfurt/Main
CATEGORIES:auftritt
END:VEVENT
BEGIN:VEVENT
DTSTART;TZID=Europe/Berlin:20160228T100000
DTEND;TZID=Europe/Berlin:20160228T130000
DTSTAMP:20260420T102836
CREATED:20160201T132719Z
LAST-MODIFIED:20160201T132719Z
UID:448-1456653600-1456664400@www.violaengelbrecht.com
SUMMARY:Duo Jazzpresso: Vernissage Renovacion
DESCRIPTION:Musikalische Umrahmung der Ausstellungseröffnung
URL:https://www.violaengelbrecht.com/termin/duo-jazzpresso-vernissage-renovacion/
LOCATION:Frauenmuseum\, Wiesbaden\, Deutschland
END:VEVENT
END:VCALENDAR