BEGIN:VCALENDAR
VERSION:2.0
PRODID:-//Viola Engelbrecht – trombone &amp; vocals - ECPv6.0.9//NONSGML v1.0//EN
CALSCALE:GREGORIAN
METHOD:PUBLISH
X-ORIGINAL-URL:https://www.violaengelbrecht.com
X-WR-CALDESC:Veranstaltungen für Viola Engelbrecht – trombone &amp; vocals
REFRESH-INTERVAL;VALUE=DURATION:PT1H
X-Robots-Tag:noindex
X-PUBLISHED-TTL:PT1H
BEGIN:VTIMEZONE
TZID:Europe/Berlin
BEGIN:DAYLIGHT
TZOFFSETFROM:+0100
TZOFFSETTO:+0200
TZNAME:CEST
DTSTART:20160327T010000
END:DAYLIGHT
BEGIN:STANDARD
TZOFFSETFROM:+0200
TZOFFSETTO:+0100
TZNAME:CET
DTSTART:20161030T010000
END:STANDARD
END:VTIMEZONE
BEGIN:VEVENT
DTSTART;TZID=Europe/Berlin:20160925T100000
DTEND;TZID=Europe/Berlin:20160925T120000
DTSTAMP:20260419T220310
CREATED:20160314T174101Z
LAST-MODIFIED:20160314T174101Z
UID:549-1474797600-1474804800@www.violaengelbrecht.com
SUMMARY:Duo Jazzpresso
DESCRIPTION:Duo Jazzpresso im Haus der Begegnung
URL:https://www.violaengelbrecht.com/termin/duo-jazzpresso-2/
LOCATION:Haus der Begegnung\, Dörpfeldstraße 6\, Frankfurt/Main\, Deutschland
CATEGORIES:auftritt
END:VEVENT
END:VCALENDAR