BEGIN:VCALENDAR
VERSION:2.0
PRODID:-//Viola Engelbrecht – trombone &amp; vocals - ECPv6.0.9//NONSGML v1.0//EN
CALSCALE:GREGORIAN
METHOD:PUBLISH
X-WR-CALNAME:Viola Engelbrecht – trombone &amp; vocals
X-ORIGINAL-URL:https://www.violaengelbrecht.com
X-WR-CALDESC:Veranstaltungen für Viola Engelbrecht – trombone &amp; vocals
REFRESH-INTERVAL;VALUE=DURATION:PT1H
X-Robots-Tag:noindex
X-PUBLISHED-TTL:PT1H
BEGIN:VTIMEZONE
TZID:Europe/Berlin
BEGIN:DAYLIGHT
TZOFFSETFROM:+0100
TZOFFSETTO:+0200
TZNAME:CEST
DTSTART:20160327T010000
END:DAYLIGHT
BEGIN:STANDARD
TZOFFSETFROM:+0200
TZOFFSETTO:+0100
TZNAME:CET
DTSTART:20161030T010000
END:STANDARD
END:VTIMEZONE
BEGIN:VEVENT
DTSTART;TZID=Europe/Berlin:20161104T193000
DTEND;TZID=Europe/Berlin:20161104T193000
DTSTAMP:20260419T190413
CREATED:20160314T174511Z
LAST-MODIFIED:20160802T100750Z
UID:553-1478287800-1478287800@www.violaengelbrecht.com
SUMMARY:RheinmainJazzorchestra in der Bessunger Knabenschule
DESCRIPTION:RheinmainJazzorchestra in der Bessunger Knabenschule Darmstadt
URL:https://www.violaengelbrecht.com/termin/rheinmainjazzorchestra-3/
LOCATION:Bessunger Knabenschule\, Darmstadt
CATEGORIES:auftritt
END:VEVENT
BEGIN:VEVENT
DTSTART;TZID=Europe/Berlin:20161111T150000
DTEND;TZID=Europe/Berlin:20161111T170000
DTSTAMP:20260419T190413
CREATED:20161031T181320Z
LAST-MODIFIED:20161031T181320Z
UID:655-1478876400-1478883600@www.violaengelbrecht.com
SUMMARY:Duo Jazzpresso: Absolventenfeier FUAS
DESCRIPTION:Duo Jazzpresso spielt beim Rahmenprogramm zur Absolventenfeier der Frankfurt University of Applied Sciences\, FB 2\, Geb. 4\, Foyer und AudiMax\, Nibelungenplatz 1
URL:https://www.violaengelbrecht.com/termin/duo-jazzpresso-absolventenfeier-fuas/
LOCATION:Frankfurt University of Applied Sciences\, Nibelungenallee 1\, Frankfurt/Main
END:VEVENT
BEGIN:VEVENT
DTSTART;TZID=Europe/Berlin:20161119T193000
DTEND;TZID=Europe/Berlin:20161119T193000
DTSTAMP:20260419T190413
CREATED:20160314T174635Z
LAST-MODIFIED:20160802T112249Z
UID:555-1479583800-1479583800@www.violaengelbrecht.com
SUMMARY:RheinmainJazzorchestra: Jubiläumskonzert Jazzclub Brechen
DESCRIPTION:RheinmainJazzorchestra: Jubiläumskonzert Jazzclub Brechen
URL:https://www.violaengelbrecht.com/termin/rheinmainjazzorchestra-4/
LOCATION:Turnhalle Niederbrechen\, Jahnstraße\, Niederbrechen
CATEGORIES:auftritt
END:VEVENT
BEGIN:VEVENT
DTSTART;TZID=Europe/Berlin:20161120T150000
DTEND;TZID=Europe/Berlin:20161120T170000
DTSTAMP:20260419T190413
CREATED:20161031T181142Z
LAST-MODIFIED:20161031T181142Z
UID:653-1479654000-1479661200@www.violaengelbrecht.com
SUMMARY:Frauenchor Praunheim: Guatemala-Tag
DESCRIPTION:Der Frauenchor Praunheim tritt beim Guatemala-Tag der Christ-König-Gemeinde auf.
URL:https://www.violaengelbrecht.com/termin/frauenchor-praunheim-guatemala-tag/
LOCATION:Christ-König-Gemeinde\, Damschkeanger 156\, Frankfurt-Praunheim
END:VEVENT
BEGIN:VEVENT
DTSTART;TZID=Europe/Berlin:20161127T150000
DTEND;TZID=Europe/Berlin:20161127T170000
DTSTAMP:20260419T190413
CREATED:20161031T181541Z
LAST-MODIFIED:20161031T181541Z
UID:656-1480258800-1480266000@www.violaengelbrecht.com
SUMMARY:Frauenchor Praunheim: Weihnachtsmarkt Praunheim
DESCRIPTION:Der Frauenchor Praunheim singt auf dem Weihnachtsmarkt Praunheim
URL:https://www.violaengelbrecht.com/termin/frauenchor-praunheim-weihnachtsmarkt-praunheim/
LOCATION:Christ-König-Gemeinde\, Damschkeanger 156\, Frankfurt-Praunheim
END:VEVENT
END:VCALENDAR